BEGIN:VCALENDAR
VERSION:2.0
PRODID:-//Cognito Abacus - ECPv6.15.20//NONSGML v1.0//EN
CALSCALE:GREGORIAN
METHOD:PUBLISH
X-ORIGINAL-URL:https://cognitoabacus.com
X-WR-CALDESC:Events for Cognito Abacus
REFRESH-INTERVAL;VALUE=DURATION:PT1H
X-Robots-Tag:noindex
X-PUBLISHED-TTL:PT1H
BEGIN:VTIMEZONE
TZID:Asia/Kolkata
BEGIN:STANDARD
TZOFFSETFROM:+0530
TZOFFSETTO:+0530
TZNAME:IST
DTSTART:20230101T000000
END:STANDARD
END:VTIMEZONE
BEGIN:VEVENT
DTSTART;VALUE=DATE:20240421
DTEND;VALUE=DATE:20240422
DTSTAMP:20260423T185728
CREATED:20240107T103442Z
LAST-MODIFIED:20251226T214738Z
UID:4893-1713657600-1713743999@cognitoabacus.com
SUMMARY:3rd National Championship 2024
DESCRIPTION:  \n \n\n3rd National Championship 2024\nThe 3rd Cognito Abacus National Abacus Championship 2024 is an Offline event. The championship will host Visual Competition\, Auditory Competition along with Graduation Ceremony. \nDates: 21st April 2024 \nMode: Offline \nLocation: IMS Ghaziabad (University Courses Campus)\, NH-09\, Adhyatmik Nagar\, Ghaziabad (UP) 201015 (Map) \nEvents: Visual Competition\, Auditory Competition\, Graduation Ceremony \nDownload Brochure: Click Here \n\n\nObjectives\nParticipating in Cognito Abacus National Abacus Championship is a holistic approach to developing various skills that extend beyond mathematics\, impacting a child’s overall cognitive and personal development.  \n\nEnhances Mental Calculation Skills: The championship focuses on improving mental calculation abilities\, which can contribute to overall cognitive development of the student.\nSharpens Concentration: Participants need to concentrate intensely during calculations\, helping to improve focus and attention span. \nEnhances Memory Retention: Regular practice helps improve memory retention\, as participants need to recall and process the numbers quickly. \nStrengthens Visualization Skills: The use of an abacus requires mental visualization of numerical relationships\, contributing to spatial memory development.\nFosters Self-Esteem: Successfully participating in the championship and achieving good results can boost a participant’s confidence and self-esteem.\nPromotes Healthy Competition: Competing with peers encourages a healthy sense of competition\, motivating students to strive for improvement. \nTime Management: Competitions have time restraints\, teaching participants how to manage their time effectively.\nStress Management: Handling the pressure of competition helps individuals develop stress management skills.\nMakes Learning Fun: Engaging in competitions can make the learning process enjoyable\, fostering a positive attitude toward mathematics. \nInstills Discipline: Regular practice and preparation instill discipline and a strong work ethic.\nEncourages Parental Support: Parents play a significant role in a child’s participation\, providing encouragement\, support\, and motivation. \n\n\n\nSchedule\n\n15-Jan-2024: Competition Announcement\n15-Jan-2024: Enrolment begins under Early Bird Fee\n15-Feb-2024: Enrolment continues under Regular Fee\n31-Mar-2024: Enrolment Closes\n07-Apr-2024: Hall Tickets Available\n21-Apr-2024: Competition\n21-Apr-2024: Announcement of Results Click for Result\n21-Apr-2024: Graduation Ceremony\n21-Apr-2024: Prize Distribution Ceremony\n\n  \nSupport\nFor all queries related to the Competition\, send a mail to canc2024@cognitoabacus.com \n\n 
URL:https://cognitoabacus.com/championship/canc2024/
LOCATION:Ghaziabad\, Ghaziabad\, Ghaziabad\, Uttar Pradesh\, 201001\, India
ATTACH;FMTTYPE=image/png:https://cognitoabacus.com/wp-content/uploads/2024/01/NAC-Logo-2024A.png
END:VEVENT
END:VCALENDAR