BEGIN:VCALENDAR
VERSION:2.0
PRODID:-//Cognito Abacus - ECPv6.15.20//NONSGML v1.0//EN
CALSCALE:GREGORIAN
METHOD:PUBLISH
X-WR-CALNAME:Cognito Abacus
X-ORIGINAL-URL:https://cognitoabacus.com
X-WR-CALDESC:Events for Cognito Abacus
REFRESH-INTERVAL;VALUE=DURATION:PT1H
X-Robots-Tag:noindex
X-PUBLISHED-TTL:PT1H
BEGIN:VTIMEZONE
TZID:Asia/Kolkata
BEGIN:STANDARD
TZOFFSETFROM:+0530
TZOFFSETTO:+0530
TZNAME:IST
DTSTART:20210101T000000
END:STANDARD
END:VTIMEZONE
BEGIN:VEVENT
DTSTART;TZID=Asia/Kolkata:20220515T090000
DTEND;TZID=Asia/Kolkata:20220516T170000
DTSTAMP:20260425T080819
CREATED:20211116T074143Z
LAST-MODIFIED:20221025T095909Z
UID:3407-1652605200-1652720400@cognitoabacus.com
SUMMARY:National Championship 2022
DESCRIPTION:  \n \n\nNational Championship 2022\nThe competition is open to Cognito Abacus students who are undergoing abacus training in any of the Cognito Abacus Unit Franchisee centre as well as Non Cognito Students studying at any Abacus Institute. However\, they will be competing in separate categories. It will be an Online event and has been designed to work on a reasonable internet connectivity as well. \nDates: 15th May 2022 \nMode: Online  \nLocation: BEADSPACE Portal \nEvents: Visual and Graduation Ceremony. \nDownload Brochure: Click Here \n\n\nObjectives\nThe Championship aims in its efforts: \n\nTo give chance to each student to compete at a Larger Scale.\nTo promote and advocate the learning of Abacus and Mental Arithmetic.\nTo elevate the standard of performance of learners of Abacus and Mental Arithmetic.\nTo foster a closer relationship between the Educator and Students of various centers.\nTo certify one’s capability in Abacus or Mental Arithmetic.\n\n \nSupport\nFor all queries related to the Competition\, send a mail to nac2022@cognitoabacus.com \n\n\nSchedule\n\n12-Feb-2022: Competition Announcement\n12-Feb-2022: Enrolment Begins (Early Bird Fee) \n01-Mar-2022: Enrolment under Regular Fee\n25-Mar-2022: Practice Platform Available\n01-Apr-2022: Enrolment with Late Fee\n24-Apr-2022: Enrolment Closed\n30-Apr-2022: Hall Tickets Available\n01-May-2022: Mock Test Window Starts\n07-May-2022: Mock Test Window Ends\n14-May-2022: Competition Day (Starts)\n15-May-2022: Competition Day (Ends)\n17-May-2022: Announcement of Results Click for Result\n22-May-2022: Online Prize Distribution\n22-May-2022: Graduation Ceremony\n25-May-2022: Dispatch of Prizes\n\n\n 
URL:https://cognitoabacus.com/championship/nac2022/
CATEGORIES:Latest
ATTACH;FMTTYPE=image/png:https://cognitoabacus.com/wp-content/uploads/2021/11/NAC-Logo-FI.png
END:VEVENT
END:VCALENDAR